BEGIN:VCALENDAR
PRODID:-//www.nzieh.org.nz//EN
VERSION:2.0
METHOD:PUBLISH
BEGIN:VEVENT
DTSTART;TZID=America/New_York:20170222T
DTEND;TZID=America/New_York:20170224T
URL:http://www.nzieh.org.nz/news-and-events/events-2/2017-nzieh-conference-2/
SUMMARY:2017 NZIEH conference
END:VEVENT
END:VCALENDAR