BEGIN:VCALENDAR
PRODID:-//www.nzieh.org.nz//EN
VERSION:2.0
METHOD:PUBLISH
BEGIN:VEVENT
DTSTART;TZID=America/New_York:20161215T
DTEND;TZID=America/New_York:20161217T
URL:http://www.nzieh.org.nz/news-and-events/events-2/test2017-nzieh-conference/
SUMMARY:TEST2017 NZIEH conference
END:VEVENT
END:VCALENDAR