BEGIN:VCALENDAR
PRODID:-//www.nzieh.org.nz//EN
VERSION:2.0
METHOD:PUBLISH
BEGIN:VEVENT
DTSTART;TZID=America/New_York:20170330T110000
DTEND;TZID=America/New_York:20170330T143000
URL:http://www.nzieh.org.nz/news-and-events/events-2/southern-branch-food-labelling-training/
SUMMARY:Southern Branch Food Labelling training
END:VEVENT
END:VCALENDAR