BEGIN:VCALENDAR
PRODID:-//www.nzieh.org.nz//EN
VERSION:2.0
METHOD:PUBLISH
BEGIN:VEVENT
DTSTART;TZID=America/New_York:20170306T
DTEND;TZID=America/New_York:20170306T
URL:http://www.nzieh.org.nz/news-and-events/events-2/national-programme-advanced-verifier-skills-training/
SUMMARY:National Programme Advanced Verifier Skills Training
END:VEVENT
END:VCALENDAR