BEGIN:VCALENDAR
PRODID:-//www.nzieh.org.nz//EN
VERSION:2.0
METHOD:PUBLISH
BEGIN:VEVENT
DTSTART;TZID=America/New_York:20170406T090000
DTEND;TZID=America/New_York:20170407T160000
URL:http://www.nzieh.org.nz/news-and-events/events-2/national-programme-advanced-verifiers-skills-training/
SUMMARY:National Programme Advanced Verifiers Skills Training
END:VEVENT
END:VCALENDAR