BEGIN:VCALENDAR
PRODID:-//www.nzieh.org.nz//EN
VERSION:2.0
METHOD:PUBLISH
BEGIN:VEVENT
DTSTART;TZID=America/New_York:20170926T
DTEND;TZID=America/New_York:20170926T
URL:http://www.nzieh.org.nz/news-and-events/events-2/world-environmental-health-day/
SUMMARY:World Environmental Health Day
END:VEVENT
END:VCALENDAR