BEGIN:VCALENDAR
PRODID:-//www.nzieh.org.nz//EN
VERSION:2.0
METHOD:PUBLISH
BEGIN:VEVENT
DTSTART;TZID=America/New_York:20170613T
DTEND;TZID=America/New_York:20170614T
URL:http://www.nzieh.org.nz/news-and-events/events-2/national-programme-advanced-verification-skills-course-13-14-june-upper-hutt/
SUMMARY:National Programme Advanced Verification Skills Course Upper Hutt
END:VEVENT
END:VCALENDAR