BEGIN:VCALENDAR
PRODID:-//www.nzieh.org.nz//EN
VERSION:2.0
METHOD:PUBLISH
BEGIN:VEVENT
DTSTART;TZID=America/New_York:20170523T093000
DTEND;TZID=America/New_York:20170523T163000
URL:http://www.nzieh.org.nz/news-and-events/events-2/environmental-noise-101-palmerston-north/
SUMMARY:Environmental Noise 101, Palmerston North
END:VEVENT
END:VCALENDAR