BEGIN:VCALENDAR
PRODID:-//www.nzieh.org.nz//EN
VERSION:2.0
METHOD:PUBLISH
BEGIN:VEVENT
DTSTART;TZID=America/New_York:20170616T100000
DTEND;TZID=America/New_York:20170616T160000
URL:http://www.nzieh.org.nz/news-and-events/events-2/agm-waikato-bay-of-plenty-centre-of-nzieh-inc/
SUMMARY:General Meeting Waikato-Bay of Plenty Centre of NZIEH Inc.
END:VEVENT
END:VCALENDAR