BEGIN:VCALENDAR
PRODID:-//www.nzieh.org.nz//EN
VERSION:2.0
METHOD:PUBLISH
BEGIN:VEVENT
DTSTART;TZID=America/New_York:20170705T100000
DTEND;TZID=America/New_York:20170705T143000
URL:http://www.nzieh.org.nz/news-and-events/events-2/southern-branch-meeting-and-np-training/
SUMMARY:Southern Branch Meeting & NP Workshop
END:VEVENT
END:VCALENDAR