BEGIN:VCALENDAR
PRODID:-//www.nzieh.org.nz//EN
VERSION:2.0
METHOD:PUBLISH
BEGIN:VEVENT
DTSTART;TZID=America/New_York:20170720T173000
DTEND;TZID=America/New_York:20170720T173000
URL:http://www.nzieh.org.nz/news-and-events/events-2/state/
SUMMARY:State of the Nation's Environment Address 2017
END:VEVENT
END:VCALENDAR