BEGIN:VCALENDAR
PRODID:-//www.nzieh.org.nz//EN
VERSION:2.0
METHOD:PUBLISH
BEGIN:VEVENT
DTSTART;TZID=America/New_York:20170928T
DTEND;TZID=America/New_York:20170928T
URL:http://www.nzieh.org.nz/news-and-events/events-2/cnib-training-cold-and-mould/
SUMMARY:CNIB Training: Cold and Mould
END:VEVENT
END:VCALENDAR